BEGIN:VCALENDAR
VERSION:2.0
PRODID:-//La Réunion des Aidants - ECPv4.6.19//NONSGML v1.0//EN
CALSCALE:GREGORIAN
METHOD:PUBLISH
X-WR-CALNAME:La Réunion des Aidants
X-ORIGINAL-URL:https://www.lareuniondesaidants.re
X-WR-CALDESC:Events for La Réunion des Aidants
BEGIN:VEVENT
DTSTART;TZID=Europe/Paris:20181109T133000
DTEND;TZID=Europe/Paris:20181109T160000
DTSTAMP:20260423T132956
CREATED:20180823T134424Z
LAST-MODIFIED:20181005T071657Z
UID:798-1541770200-1541779200@www.lareuniondesaidants.re
SUMMARY:Arthérapie (Sud)
DESCRIPTION:Une activité proposée à la Kaz grand’R – Maison des aidants. \n
URL:https://www.lareuniondesaidants.re/event/artherapie/
LOCATION:120 rue Défaud - Ravine des Citrons\, Entre-Deux\, Ile de la Réunion\, 97403\, France
ORGANIZER;CN="GIPSAP%20REUNION":MAILTO:contact@gipsap.re
END:VEVENT
END:VCALENDAR