BEGIN:VCALENDAR
VERSION:2.0
PRODID:-//La Réunion des Aidants - ECPv4.6.19//NONSGML v1.0//EN
CALSCALE:GREGORIAN
METHOD:PUBLISH
X-WR-CALNAME:La Réunion des Aidants
X-ORIGINAL-URL:https://www.lareuniondesaidants.re
X-WR-CALDESC:Events for La Réunion des Aidants
BEGIN:VEVENT
DTSTART;TZID=Europe/Paris:20181114T133000
DTEND;TZID=Europe/Paris:20181114T160000
DTSTAMP:20260423T210808
CREATED:20180823T140317Z
LAST-MODIFIED:20181005T071638Z
UID:805-1542202200-1542211200@www.lareuniondesaidants.re
SUMMARY:Atelier informatique (Sud)
DESCRIPTION:Découverte de l’outil informatique windows. \nActivité proposée à la Kaz Grand’R – Maison des aidants. \n
URL:https://www.lareuniondesaidants.re/event/atelier-informatique/
LOCATION:120 rue Défaud - Ravine des Citrons\, Entre-Deux\, Ile de la Réunion\, 97403\, France
ATTACH;FMTTYPE=image/png:https://www.lareuniondesaidants.re/wp-content/uploads/2018/06/Capture-d’écran-2018-09-11-à-12.03.50.png
ORGANIZER;CN="GIPSAP%20REUNION":MAILTO:contact@gipsap.re
END:VEVENT
END:VCALENDAR