BEGIN:VCALENDAR
VERSION:2.0
PRODID:-//La Réunion des Aidants - ECPv4.6.19//NONSGML v1.0//EN
CALSCALE:GREGORIAN
METHOD:PUBLISH
X-WR-CALNAME:La Réunion des Aidants
X-ORIGINAL-URL:https://www.lareuniondesaidants.re
X-WR-CALDESC:Events for La Réunion des Aidants
BEGIN:VEVENT
DTSTART;TZID=Europe/Paris:20181024T100000
DTEND;TZID=Europe/Paris:20181024T113000
DTSTAMP:20260423T163817
CREATED:20181001T044001Z
LAST-MODIFIED:20181005T071722Z
UID:1447-1540375200-1540380600@www.lareuniondesaidants.re
SUMMARY:Café des aidants (Est)
DESCRIPTION:Thème : “Comment j’envisage l’avenir”  \nLes Cafés des Aidants sont des lieux\, des temps et des espaces d’information\, destinés à tous les aidants\, quels que soient l’âge et la pathologie de son proche.   \nCes rencontres ont lieu une fois par mois et sont co-animés par un travailleur social et un psychologue ayant une expertise sur la question des aidants. A chaque rencontre une thématique est proposée pour amorcer des échanges autour de son vécu d’aidant. L’objectif est de vous offrir un lieu dédié\, pour échanger et rencontrer d’autres aidants dans un cadre convivial (un café associatif\, un bar\, un restaurant\, etc.). \nLa participation au Café des Aidants est gratuite\, réservée aux proches aidants. \nInscription au 0800 530 002 (gratuit depuis un poste fixe) \n
URL:https://www.lareuniondesaidants.re/event/cafe-des-aidants-nord-2/
LOCATION:300 rue Bois de Rose\, Saint-André\, Ile de La Réunion\, 97409\, France
ATTACH;FMTTYPE=image/png:https://www.lareuniondesaidants.re/wp-content/uploads/2018/06/Unknown-e1538376180329.png
ORGANIZER;CN="GIPSAP%20REUNION":MAILTO:contact@gipsap.re
END:VEVENT
END:VCALENDAR