BEGIN:VCALENDAR
VERSION:2.0
PRODID:-//La Réunion des Aidants - ECPv4.6.19//NONSGML v1.0//EN
CALSCALE:GREGORIAN
METHOD:PUBLISH
X-WR-CALNAME:La Réunion des Aidants
X-ORIGINAL-URL:https://www.lareuniondesaidants.re
X-WR-CALDESC:Events for La Réunion des Aidants
BEGIN:VEVENT
DTSTART;TZID=Europe/Paris:20190611T083000
DTEND;TZID=Europe/Paris:20190611T120000
DTSTAMP:20260423T102948
CREATED:20190225T081219Z
LAST-MODIFIED:20190225T081219Z
UID:2079-1560241800-1560254400@www.lareuniondesaidants.re
SUMMARY:Formation dédiée aux Aidants : La Communication interpersonnelle Kaz Grand'R / Sud
DESCRIPTION:Qu’est-ce que c’est?\nLe GIPSAP RÉUNION propose chaque mois une formation dédiée aux Aidants qu’il accompagne tout au long de l’année. L’objectif de ces formations est de leur permettre de trouver des solutions pour mieux vivre leur rôle d’aidant au quotidien\, en préservant ou en renforçant leur force et leur capacité d’accompagnement. \nInscrivez-vous au numéro vert de la plateforme de soutien et d’accompagnement pour les aidants familiaux du GIPSAP RÉUNION \n \n
URL:https://www.lareuniondesaidants.re/event/formation-dediee-aux-aidants-la-communication-interpersonnelle-kaz-grandr-sud/
LOCATION:120 rue Défaud - Ravine des Citrons\, Entre-Deux\, Ile de la Réunion\, 97403\, France
CATEGORIES:Programme Kaz Grand'R (Sud)
ATTACH;FMTTYPE=image/png:https://www.lareuniondesaidants.re/wp-content/uploads/2019/02/Formation_Sud.png
ORGANIZER;CN="GIPSAP%20REUNION":MAILTO:contact@gipsap.re
END:VEVENT
END:VCALENDAR