BEGIN:VCALENDAR
VERSION:2.0
PRODID:-//La Réunion des Aidants - ECPv4.6.19//NONSGML v1.0//EN
CALSCALE:GREGORIAN
METHOD:PUBLISH
X-WR-CALNAME:La Réunion des Aidants
X-ORIGINAL-URL:https://www.lareuniondesaidants.re
X-WR-CALDESC:Events for La Réunion des Aidants
BEGIN:VEVENT
DTSTART;TZID=Europe/Paris:20190219T083000
DTEND;TZID=Europe/Paris:20190219T120000
DTSTAMP:20260423T133701
CREATED:20190301T024340Z
LAST-MODIFIED:20190301T024537Z
UID:2100-1550565000-1550577600@www.lareuniondesaidants.re
SUMMARY:Formation dédiée aux Aidants : Pourquoi suis-je aidant? Espace Reydellet / Nord
DESCRIPTION:
URL:https://www.lareuniondesaidants.re/event/formation-dediee-aux-aidants-pourquoi-suis-je-aidant-espace-reydellet-nord/
LOCATION:103 rue de la République - Quartier bas de la rivière\, Saint-Denis\, Ile de La Réunion\, 97400\, France
CATEGORIES:Programme Espace Reydellet (Nord)
ATTACH;FMTTYPE=image/png:https://www.lareuniondesaidants.re/wp-content/uploads/2019/02/Formation_Nord.png
ORGANIZER;CN="GIPSAP%20REUNION":MAILTO:contact@gipsap.re
END:VEVENT
END:VCALENDAR