BEGIN:VCALENDAR
VERSION:2.0
PRODID:-//La Réunion des Aidants - ECPv4.6.19//NONSGML v1.0//EN
CALSCALE:GREGORIAN
METHOD:PUBLISH
X-WR-CALNAME:La Réunion des Aidants
X-ORIGINAL-URL:https://www.lareuniondesaidants.re
X-WR-CALDESC:Events for La Réunion des Aidants
BEGIN:VEVENT
DTSTART;TZID=Indian/Reunion:20190205T083000
DTEND;TZID=Indian/Reunion:20190205T120000
DTSTAMP:20260423T103654
CREATED:20190225T073036Z
LAST-MODIFIED:20190225T081858Z
UID:2048-1549355400-1549368000@www.lareuniondesaidants.re
SUMMARY:Formation dédiée aux Aidants : Pourquoi suis-je aidant? Village Corail / Ouest
DESCRIPTION:Qu’est-ce que c’est?\nLe GIPSAP RÉUNION propose chaque mois une formation dédiée aux Aidants qu’il accompagne tout au long de l’année. L’objectif de ces formations est de leur permettre de trouver des solutions pour mieux vivre leur rôle d’aidant au quotidien\, en préservant ou en renforçant leur force et leur capacité d’accompagnement. \nInscrivez-vous au numéro vert de la plateforme de soutien et d’accompagnement pour les aidants familiaux du GIPSAP RÉUNION \n \n
URL:https://www.lareuniondesaidants.re/event/formation-dediee-aux-aidants-pourquoi-suis-je-aidant-village-corail-ouest/
LOCATION:80 avenue de Bourbon\, Saint-Gilles\, 97434
CATEGORIES:Programme Village Corail (Ouest)
ATTACH;FMTTYPE=image/png:https://www.lareuniondesaidants.re/wp-content/uploads/2019/02/Formation_Ouest.png
ORGANIZER;CN="GIPSAP%20REUNION":MAILTO:contact@gipsap.re
END:VEVENT
END:VCALENDAR