BEGIN:VCALENDAR
VERSION:2.0
PRODID:-//La Réunion des Aidants - ECPv4.6.19//NONSGML v1.0//EN
CALSCALE:GREGORIAN
METHOD:PUBLISH
X-WR-CALNAME:La Réunion des Aidants
X-ORIGINAL-URL:https://www.lareuniondesaidants.re
X-WR-CALDESC:Events for La Réunion des Aidants
BEGIN:VEVENT
DTSTART;TZID=Europe/Paris:20200505T090000
DTEND;TZID=Europe/Paris:20200505T120000
DTSTAMP:20260423T133446
CREATED:20200504T104749Z
LAST-MODIFIED:20200504T105718Z
UID:2147-1588669200-1588680000@www.lareuniondesaidants.re
SUMMARY:Formation : Droits et Devoirs en tant qu'aidant (en visio)
DESCRIPTION:Bien que le Président de la République ait annoncé la fin du confinement le lundi 11 mai\n2020\, malheureusement nous ne pourrons pas vous accueillir sur nos sites habituels pendant\nplusieurs semaines. \nConscient des difficultés que vous pouvez rencontrer pendant cette période de\nconfinement suites aux mesures prises par le gouvernement de fermetures ou de réduction\nd’activités de nombreux organismes et structures relais\, nous vous proposons de garder le lien\navec nous en participant à nos actions en visio-conférence. \nVéronik et Zélia vous invitent donc à venir échanger sur toutes les questions que vous vous posez\nsur vos droits et vos devoirs en tant qu’aidant d’une personne dépendante. \nVous souhaitez participer à cette visio-conférence ? contactez Carine par :\n– Téléphone au 0692 33 65 37 du lundi au vendredi de 9h à 12h\n– Email à : contact@gipsap.re \nPour toutes autres questions et informations contactez-nous au : \nLundi au jeudi de 09h00-12h00 et de 13h à 16h00\nVendredi de 09h00 à 12h00 (fermé l’après-midi) \n \n  \n
URL:https://www.lareuniondesaidants.re/event/formation-droits-et-devoirs-en-tant-quaidant-en-visio/
CATEGORIES:Programme Visio-Conférence
ORGANIZER;CN="GIPSAP%20REUNION":MAILTO:contact@gipsap.re
END:VEVENT
END:VCALENDAR