BEGIN:VCALENDAR
VERSION:2.0
PRODID:-//La Réunion des Aidants - ECPv4.6.19//NONSGML v1.0//EN
CALSCALE:GREGORIAN
METHOD:PUBLISH
X-WR-CALNAME:La Réunion des Aidants
X-ORIGINAL-URL:https://www.lareuniondesaidants.re
X-WR-CALDESC:Events for La Réunion des Aidants
BEGIN:VEVENT
DTSTART;TZID=Europe/Paris:20181113T083000
DTEND;TZID=Europe/Paris:20181113T120000
DTSTAMP:20260423T144925
CREATED:20180925T035005Z
LAST-MODIFIED:20181005T071653Z
UID:1342-1542097800-1542110400@www.lareuniondesaidants.re
SUMMARY:Formation : La santé par l'activité physique adaptée (Sud)
DESCRIPTION:Le GIP SAP propose chaque mois une formation dédiée aux aidants qu’ils accompagnent toute l’année. L’objectif de ces formations est de leur permettre de trouver des solutions pour mieux vivre leur rôle d’aidant au quotidien\, en préservant ou en renforçant leur force et leur capacité d’accompagnement. \nCette formation est animée par l’association SIEL BLEU\, spécialisée en Activité Physique Adaptée. \nEn savoir plus : www.sielbleu.com \n  \n
URL:https://www.lareuniondesaidants.re/event/formation-la-sante-par-lactivite-physique-adaptee-2/
LOCATION:120 rue Défaud - Ravine des Citrons\, Entre-Deux\, Ile de la Réunion\, 97403\, France
ORGANIZER;CN="GIPSAP%20REUNION":MAILTO:contact@gipsap.re
END:VEVENT
END:VCALENDAR