BEGIN:VCALENDAR
VERSION:2.0
PRODID:-//La Réunion des Aidants - ECPv4.6.19//NONSGML v1.0//EN
CALSCALE:GREGORIAN
METHOD:PUBLISH
X-WR-CALNAME:La Réunion des Aidants
X-ORIGINAL-URL:https://www.lareuniondesaidants.re
X-WR-CALDESC:Events for La Réunion des Aidants
BEGIN:VEVENT
DTSTART;TZID=Europe/Paris:20181023T083000
DTEND;TZID=Europe/Paris:20181023T120000
DTSTAMP:20260423T182305
CREATED:20181001T042111Z
LAST-MODIFIED:20181005T071725Z
UID:1440-1540283400-1540296000@www.lareuniondesaidants.re
SUMMARY:Fermeture de la Journée Nationale des aidants
DESCRIPTION:« La santé des aidants » \nPLACES LIMITÉES INSCRIPTION OBLIGATOIRE au 0800 53 00 02\nDate limite d’inscription vendredi 28/09/2018 \nCliquer ici pour découvrir le programme complet de la JNA 2018 \n
URL:https://www.lareuniondesaidants.re/event/journee-nationale-des-aidants-fermeture/
ATTACH;FMTTYPE=image/png:https://www.lareuniondesaidants.re/wp-content/uploads/2018/09/Capture-d’écran-2018-09-25-à-08.22.09.png
ORGANIZER;CN="GIPSAP%20REUNION":MAILTO:contact@gipsap.re
END:VEVENT
END:VCALENDAR