BEGIN:VCALENDAR
VERSION:2.0
PRODID:-//La Réunion des Aidants - ECPv4.6.19//NONSGML v1.0//EN
CALSCALE:GREGORIAN
METHOD:PUBLISH
X-WR-CALNAME:La Réunion des Aidants
X-ORIGINAL-URL:https://www.lareuniondesaidants.re
X-WR-CALDESC:Events for La Réunion des Aidants
BEGIN:VEVENT
DTSTART;TZID=Europe/Paris:20181129T083000
DTEND;TZID=Europe/Paris:20181129T120000
DTSTAMP:20260423T121719
CREATED:20181001T045345Z
LAST-MODIFIED:20181005T071557Z
UID:1461-1543480200-1543492800@www.lareuniondesaidants.re
SUMMARY:Matinée Santé : Gestion du stress + Tai Chi (Est)
DESCRIPTION:Le GIP SAP propose chaque mois une Matinée Santé aux Aidants qui se déroule en deux temps : \n8H30 – 10H30 : séance d’information santé. \n10H30 – 12H00 : Activité physique ou de bien-être. \nCette matinée a pour objectif de permettre aux aidants d’acquérir des connaissances et des pratiques\, afin de préserver le plus longtemps possible leur capital santé\, et ainsi assumer au mieux leur rôle au quotidien. \n  \nLa séance d’information du 29 novembre 2018 : “La gestion du stress et de l’anxiété : outils et techniques” \nL’activité du 29 novembre 2018 : Tai-Chi \nInscription au 0800 530 002 (gratuit depuis un poste fixe) \n
URL:https://www.lareuniondesaidants.re/event/matinee-sante-gestion-du-stress-tai-chi-est/
LOCATION:300 rue Bois de Rose\, Saint-André\, Ile de La Réunion\, 97409\, France
ORGANIZER;CN="GIPSAP%20REUNION":MAILTO:contact@gipsap.re
END:VEVENT
END:VCALENDAR