BEGIN:VCALENDAR
VERSION:2.0
PRODID:-//La Réunion des Aidants - ECPv4.6.19//NONSGML v1.0//EN
CALSCALE:GREGORIAN
METHOD:PUBLISH
X-WR-CALNAME:La Réunion des Aidants
X-ORIGINAL-URL:https://www.lareuniondesaidants.re
X-WR-CALDESC:Events for La Réunion des Aidants
BEGIN:VEVENT
DTSTART;TZID=Europe/Paris:20181122T083000
DTEND;TZID=Europe/Paris:20181122T120000
DTSTAMP:20260423T153230
CREATED:20181001T045656Z
LAST-MODIFIED:20181005T071606Z
UID:1465-1542875400-1542888000@www.lareuniondesaidants.re
SUMMARY:Matinée Santé : Gestion du stress + Tai Chi (Nord)
DESCRIPTION:Le GIP SAP propose chaque mois une Matinée Santé aux Aidants qui se déroule en deux temps : \n8H30 – 10H30 : séance d’information santé. \n10H30 – 12H00 : Activité physique ou de bien-être. \nCette matinée a pour objectif de permettre aux aidants d’acquérir des connaissances et des pratiques\, afin de préserver le plus longtemps possible leur capital santé\, et ainsi assumer au mieux leur rôle au quotidien. \n  \nLa séance d’information du 22 novembre 2018 : “La gestion du stress et de l’anxiété : outils et techniques” \nL’activité du 22 novembre 2018 : Tai-Chi \nInscription au 0800 530 002 (gratuit depuis un poste fixe) \n
URL:https://www.lareuniondesaidants.re/event/matinee-sante-gestion-du-stress-tai-chi-nord/
LOCATION:103 rue de la République - Quartier bas de la rivière\, Saint-Denis\, Ile de La Réunion\, 97400\, France
ORGANIZER;CN="GIPSAP%20REUNION":MAILTO:contact@gipsap.re
END:VEVENT
END:VCALENDAR