BEGIN:VCALENDAR
VERSION:2.0
PRODID:-//La Réunion des Aidants - ECPv4.6.19//NONSGML v1.0//EN
CALSCALE:GREGORIAN
METHOD:PUBLISH
X-WR-CALNAME:La Réunion des Aidants
X-ORIGINAL-URL:https://www.lareuniondesaidants.re
X-WR-CALDESC:Events for La Réunion des Aidants
BEGIN:VEVENT
DTSTART;TZID=Europe/Paris:20181108T083000
DTEND;TZID=Europe/Paris:20181108T120000
DTSTAMP:20260423T102244
CREATED:20181001T045946Z
LAST-MODIFIED:20181005T071705Z
UID:1469-1541665800-1541678400@www.lareuniondesaidants.re
SUMMARY:Matinée Santé : Gestion du stress + Tai Chi (Ouest)
DESCRIPTION:Le GIP SAP propose chaque mois une Matinée Santé aux Aidants qui se déroule en deux temps : \n8H30 – 10H30 : séance d’information santé. \n10H30 – 12H00 : Activité physique ou de bien-être. \nCette matinée a pour objectif de permettre aux aidants d’acquérir des connaissances et des pratiques\, afin de préserver le plus longtemps possible leur capital santé\, et ainsi assumer au mieux leur rôle au quotidien. \n  \nLa séance d’information du 8 novembre 2018 : “La gestion du stress et de l’anxiété : outils et techniques” \nL’activité du 8 novembre 2018 : Tai-Chi \nInscription au 0800 530 002 (gratuit depuis un poste fixe) \n
URL:https://www.lareuniondesaidants.re/event/matinee-sante-gestion-du-stress-tai-chi-ouest/
LOCATION:80 avenue de Bourbon\, Saint-Gilles\, 97434
ORGANIZER;CN="GIPSAP%20REUNION":MAILTO:contact@gipsap.re
END:VEVENT
END:VCALENDAR